BEGIN:VCALENDAR
PRODID:-//eluceo/ical//2.0/EN
VERSION:2.0
CALSCALE:GREGORIAN
BEGIN:VEVENT
UID:c24adb8e73f253f0b2cc640efe38364b
DTSTAMP:20260421T040247Z
SUMMARY:Celebrate Israel Festival
DESCRIPTION:United Jewish Federation of Utah\nCalendar\nhttps://shalomutah.
 org/united-jewish-federation-of-utah-calendar/celebrate-israel-festival\n\
 nJoin us Sunday\, May 7th\, from 12:30 PM to 2:30 PM at the I J & Jeanné 
 Wagner Jewish Community Center at the Celebrate ​​ Israel Festival.#I
 sraelIndependenceDay
DTSTART;TZID=America/Denver:20170507T123000
DTEND;TZID=America/Denver:20170507T143000
END:VEVENT
END:VCALENDAR
