BEGIN:VCALENDAR
PRODID:-//eluceo/ical//2.0/EN
VERSION:2.0
CALSCALE:GREGORIAN
BEGIN:VEVENT
UID:8c9fe2642c6672ec664922cec5bba721
DTSTAMP:20260420T173934Z
SUMMARY:Celebrate the 3rd Night of Chanukah
DESCRIPTION:United Jewish Federation of Utah\nCalendar\nhttps://shalomutah.
 org/united-jewish-federation-of-utah-calendar/celebrate-the-3rd-night-of-c
 hanukah-1607547217\n\nIce Skating\,\n\nHavdallah\,\n\nMenorah Lighting\,\n
 \nHot Chocolate\n\n& Donuts\n\n 
DTSTART;TZID=America/Denver:20201212T183000
DTEND;TZID=America/Denver:20201212T200000
END:VEVENT
END:VCALENDAR
