BEGIN:VCALENDAR
PRODID:-//eluceo/ical//2.0/EN
VERSION:2.0
CALSCALE:GREGORIAN
BEGIN:VEVENT
UID:27319200354daeef7fe474df589c36f3
DTSTAMP:20260420T164926Z
SUMMARY:Chabad Young SLC-Scotch Tasting & Hamentash Making
DESCRIPTION:United Jewish Federation of Utah\nCalendar\nhttps://shalomutah.
 org/united-jewish-federation-of-utah-calendar/chabad-young-slc-scotch-tast
 ing--hamentash-making-1456788191\n\nWith Purim on the way\, join together 
 with other Young Utah Jews for a fun night out including a loaded Scotch b
 ar\, and a chance to try your hand at some authentic Jewish pastries. Tick
 ets are $10 per person!  For Young Utah Jews (singles and marrieds) ages 2
 1-35!
DTSTART;TZID=America/Denver:20160315T200000
DTEND;TZID=America/Denver:20160315T220000
END:VEVENT
END:VCALENDAR
