BEGIN:VCALENDAR
PRODID:-//eluceo/ical//2.0/EN
VERSION:2.0
CALSCALE:GREGORIAN
BEGIN:VEVENT
UID:3c73e2dc091ebe1e914e66cc453f9b9b
DTSTAMP:20260420T131045Z
SUMMARY:Chabad's Party at the Park!
DESCRIPTION:United Jewish Federation of Utah\nCalendar\nhttps://shalomutah.
 org/united-jewish-federation-of-utah-calendar/chabads-party-at-the-park-15
 00332243\n\nSend off your summer in style!\n\n-Deluxe Kosher BBQ + vegetar
 ian options!\n-Games and activities for the kids!\n-Music!\n-FIRST TIME: C
 ommunity Softball Classic\n\nSunday\, August 20\, 2017\n3:00 PM\n\nSugarho
 use Park\nMt. Olympus Pavilion (second Pavilion on the right)\n1330 East 2
 100 South\nSalt Lake City\, UT 84106\n\n$10 per person - $40 per family - 
 $100 sponsor\n\nRSVP at jewishutah.com/summer
DTSTART;TZID=America/Denver:20170820T150000
DTEND;TZID=America/Denver:20170820T180000
END:VEVENT
END:VCALENDAR
