BEGIN:VCALENDAR
PRODID:-//eluceo/ical//2.0/EN
VERSION:2.0
CALSCALE:GREGORIAN
BEGIN:VEVENT
UID:28926cf558220bd1bc376b67af9b71b7
DTSTAMP:20260420T161559Z
SUMMARY:Chai Hebrew School Achievement Ceremony
DESCRIPTION:United Jewish Federation of Utah\nCalendar\nhttps://shalomutah.
 org/united-jewish-federation-of-utah-calendar/chai-hebrew-school-achieveme
 nt-ceremony-1495476776\n\nJoin us for a celebration that will be used to m
 ark the various achievements made by our students throughout the year\, as
  well as a tribute to the Donors\, Faculty and Parents of Chai Hebrew Scho
 ol\, and is open to the entire community.
DTSTART;TZID=America/Denver:20170604T110000
DTEND;TZID=America/Denver:20170604T120000
END:VEVENT
END:VCALENDAR
