BEGIN:VCALENDAR
PRODID:-//eluceo/ical//2.0/EN
VERSION:2.0
CALSCALE:GREGORIAN
BEGIN:VEVENT
UID:837a796c6d37c3af80347016ad04db65
DTSTAMP:20260420T204049Z
SUMMARY:Chai West Purim
DESCRIPTION:United Jewish Federation of Utah\nCalendar\nhttps://shalomutah.
 org/united-jewish-federation-of-utah-calendar/chai-west-purim-1548272672\n
 \nAre you ready for Purim? Join your friends from Congregation Kol Ami for
  a fun\, saloon-themed evening together!\n\nOur night features whiskey/bou
 rbon tastings (and drinking!)\, delicious eats\, saloon-style gambling\, a
 nd more.\n\nThis is a costume party\, y’all! Prizes for best “Chai Wes
 t” theme outfits.\n\nDon’t drink? We have mocktails and soft drinks fo
 r you\, too.\n\n$65 pp (Kol Ami Members) / $85 pp (Non-Members)\n\nDiscoun
 t codes available.\n\nThis event is 21+ only. Babysitting wil...
DTSTART;TZID=America/Denver:20190316T200000
DTEND;TZID=America/Denver:20190316T220000
END:VEVENT
END:VCALENDAR
