BEGIN:VCALENDAR
PRODID:-//eluceo/ical//2.0/EN
VERSION:2.0
CALSCALE:GREGORIAN
BEGIN:VEVENT
UID:ed70d85659e186301d553041a4b1a60f
DTSTAMP:20260420T202528Z
SUMMARY:Challah Baking Class at Kol Ami
DESCRIPTION:United Jewish Federation of Utah\nCalendar\nhttps://shalomutah.
 org/united-jewish-federation-of-utah-calendar/challah-baking-class-at-kol-
 ami-1726071989\n\nJudaism contains a broad range of home rituals\, one of 
 the most comforting of which is making challah. And food is best when it
 ’s prepared and shared with friends! Adults of all ages are welcome to c
 ome learn how to bake Challah or improve your Challah baking skills—and 
 get your very own Kol Ami apron! This class will be led by our baker and K
 ol Ami member Moshe Onwukeme\, as well as Kol Ami member and experienced C
 hallah baker Aimee Nussbaum. To prepare for the upcoming High Holidays\, w
 e'...
DTSTART;TZID=America/Denver:20240924T180000
DTEND;TZID=America/Denver:20240924T210000
END:VEVENT
END:VCALENDAR
