BEGIN:VCALENDAR
PRODID:-//eluceo/ical//2.0/EN
VERSION:2.0
CALSCALE:GREGORIAN
BEGIN:VEVENT
UID:8c8537dac84e515f1e92bbc0d754dc47
DTSTAMP:20260421T101420Z
SUMMARY:Chanuka Menorah Celebration
DESCRIPTION:United Jewish Federation of Utah\nCalendar\nhttps://shalomutah.
 org/united-jewish-federation-of-utah-calendar/chanuka-menorah-celebration-
 1543339014\n\nChabad Jewish Center invites the whole community to a Chanuk
 a Menorah lighting celebration! Family entertainment\, music\, hot latkes\
 , jelly donuts\, chocolate gelt\, dreidels\, fire show and more! With gree
 tings from the honorable Jon Pike\, Mayor of St. George. Admission is free
  and open to the public regardless of background or affiliation.
DTSTART;TZID=America/Denver:20181209T163000
DTEND;TZID=America/Denver:20181209T173000
END:VEVENT
END:VCALENDAR
