BEGIN:VCALENDAR
PRODID:-//eluceo/ical//2.0/EN
VERSION:2.0
CALSCALE:GREGORIAN
BEGIN:VEVENT
UID:4a75d861318cd150094f9c398b8567fc
DTSTAMP:20260420T131555Z
SUMMARY:Chanukah candle lighting with Haddassah of Greater Salt Lake
DESCRIPTION:United Jewish Federation of Utah\nCalendar\nhttps://shalomutah.
 org/united-jewish-federation-of-utah-calendar/chanukah-candle-lighting-wit
 h-haddassah-of-greater-salt-lake-1606768416\n\nJoin our local Hadassah mem
 bers to light the Chanukah candles together.\n\nEmail our Membership chair
 \, Joy Fisher\, at bjoyfisher@gmail.com to get the Zoom link.
DTSTART;TZID=America/Denver:20201214T193000
DTEND;TZID=America/Denver:20201214T200000
END:VEVENT
END:VCALENDAR
