BEGIN:VCALENDAR
PRODID:-//eluceo/ical//2.0/EN
VERSION:2.0
CALSCALE:GREGORIAN
BEGIN:VEVENT
UID:db4e5881b34b50df9f976cdfc9d7b69e
DTSTAMP:20260421T015040Z
SUMMARY:Chanukah Candle Lighting with Mayor Menendhall
DESCRIPTION:United Jewish Federation of Utah\nCalendar\nhttps://shalomutah.
 org/united-jewish-federation-of-utah-calendar/chanukah-candle-lighting-wit
 h-mayor-menendhall-1730390936\n\nChanukah Candle Lighting with Mayor Menen
 dhall at Salt Lake City Hall
DTSTART;TZID=America/Denver:20241230T180000
DTEND;TZID=America/Denver:20241230T190000
END:VEVENT
END:VCALENDAR
