BEGIN:VCALENDAR
PRODID:-//eluceo/ical//2.0/EN
VERSION:2.0
CALSCALE:GREGORIAN
BEGIN:VEVENT
UID:67c9701d5a5c586048a9b56486b5ab82
DTSTAMP:20260421T181137Z
SUMMARY:Chanukah Light Live
DESCRIPTION:United Jewish Federation of Utah\nCalendar\nhttps://shalomutah.
 org/united-jewish-federation-of-utah-calendar/chanukah-light-live-16075475
 89\n\nVirtual Menorah Lighting\, Live-stream from Town Square Park!\n\nCom
 munity Menorah Lighting from your home\, with treats\, music\, singers and
  illusionist Ilan Smith.\n\nRSVP for FREE Chanukah Party Kit!!
DTSTART;TZID=America/Denver:20201213T174500
DTEND;TZID=America/Denver:20201213T184500
END:VEVENT
END:VCALENDAR
