BEGIN:VCALENDAR
PRODID:-//eluceo/ical//2.0/EN
VERSION:2.0
CALSCALE:GREGORIAN
BEGIN:VEVENT
UID:7620ef1563be1ef127d2acc1408c9201
DTSTAMP:20260422T115014Z
SUMMARY:Chanukah Pop-Up Shop at Kol Ami
DESCRIPTION:United Jewish Federation of Utah\nCalendar\nhttps://shalomutah.
 org/united-jewish-federation-of-utah-calendar/chanukah-pop-up-shop-at-kol-
 ami-1764111074\n\nShop for Chanukah decorations\, gifts\, and more in the 
 West Foyer during religious school. All proceeds benefit the Rafi Schwartz
  Religious School.
DTSTART;TZID=America/Denver:20251214T084500
DTEND;TZID=America/Denver:20251214T123000
END:VEVENT
END:VCALENDAR
