BEGIN:VCALENDAR
PRODID:-//eluceo/ical//2.0/EN
VERSION:2.0
CALSCALE:GREGORIAN
BEGIN:VEVENT
UID:30d37e59aa708020b7e9c78d6a9ddf16
DTSTAMP:20260421T215959Z
SUMMARY:CKids Purim Laughing Lab
DESCRIPTION:United Jewish Federation of Utah\nCalendar\nhttps://shalomutah.
 org/united-jewish-federation-of-utah-calendar/ckids-purim-laughing-lab-161
 3598555\n\nBring your smile and get ready to laugh at the wackiest Purim c
 lub you've ever joined!\nLearn from mad scientist Dr. Schnitzel with four 
 mind-blowing contraptions that mix the wonders of science with the ancient
  history of Purim. But don’t keep all the fun to yourself!\nTake home a 
 mad science Mishloach Manot basket to pass on the laughter to a friend.
DTSTART;TZID=America/Denver:20210221T180000
DTEND;TZID=America/Denver:20210221T190000
END:VEVENT
END:VCALENDAR
