BEGIN:VCALENDAR
PRODID:-//eluceo/ical//2.0/EN
VERSION:2.0
CALSCALE:GREGORIAN
BEGIN:VEVENT
UID:b7ebc92100e099f9893cfc7923718a5a
DTSTAMP:20260421T140727Z
SUMMARY:Comedian: Keith Barany at the Jewish Community Center
DESCRIPTION:United Jewish Federation of Utah\nCalendar\nhttps://shalomutah.
 org/united-jewish-federation-of-utah-calendar/comedian-keith-barany-at-the
 -jewish-community-center\n\nComedian: Keith Barany at the JCC
DTSTART;TZID=America/Denver:20130202T190000
DTEND;TZID=America/Denver:20130202T220000
END:VEVENT
END:VCALENDAR
