BEGIN:VCALENDAR
PRODID:-//eluceo/ical//2.0/EN
VERSION:2.0
CALSCALE:GREGORIAN
BEGIN:VEVENT
UID:bf79c433d7c4b0ac489bc38a23a580e1
DTSTAMP:20260420T094908Z
SUMMARY:Community LGBTQA Passover Seder
DESCRIPTION:United Jewish Federation of Utah\nCalendar\nhttps://shalomutah.
 org/united-jewish-federation-of-utah-calendar/community-lgbtqa-passover-se
 der\n\nIt is with great excitement that we announce the first ever LGBTQA 
 Community Passover Seder. The Seder is a continuation of the community Div
 ersity & Inclusion Initiative that we began last October.\n\nWe hope you w
 ill join us for this very special evening!
DTSTART;TZID=America/Denver:20180402T183000
DTEND;TZID=America/Denver:20180402T210000
END:VEVENT
END:VCALENDAR
