BEGIN:VCALENDAR
PRODID:-//eluceo/ical//2.0/EN
VERSION:2.0
CALSCALE:GREGORIAN
BEGIN:VEVENT
UID:b2b39b9fa30164054c636a07808da6ac
DTSTAMP:20260424T132419Z
SUMMARY:Community Passover Seder
DESCRIPTION:United Jewish Federation of Utah\nCalendar\nhttps://shalomutah.
 org/united-jewish-federation-of-utah-calendar/community-passover-seder-149
 0132922\n\nThe I J and Jeanne Wagner Jewish Community Center and Congregat
 ion Kol Ami will come together to celebrate the first Passover Seder.
DTSTART;TZID=America/Denver:20170410T180000
DTEND;TZID=America/Denver:20170410T210000
END:VEVENT
END:VCALENDAR
