BEGIN:VCALENDAR
PRODID:-//eluceo/ical//2.0/EN
VERSION:2.0
CALSCALE:GREGORIAN
BEGIN:VEVENT
UID:dfcee31ec21489023e4ef6d634c9b4b0
DTSTAMP:20260420T185103Z
SUMMARY:Community Passover Seder
DESCRIPTION:United Jewish Federation of Utah\nCalendar\nhttps://shalomutah.
 org/united-jewish-federation-of-utah-calendar/community-passover-seder-155
 6160234\n\nWe are going to hold it in the synagogue\, moving the big chair
 s out and setting up tables for 6-8 to accommodate as many people as possi
 ble in one large room and serving the meal family style.\n\nThe main cours
 e options will be beef brisket\, roast chicken\, or a vegetarian option. (
 Side dishes of potatoes and vegetables will also be served.) The caterer w
 ill also provide broth for matzo ball soup and dessert (flourless chocolat
 e cake with raspberry coulis). The synagogue will provide matzo\, Mo...
DTSTART;TZID=America/Denver:20190426T183000
DTEND;TZID=America/Denver:20190426T203000
END:VEVENT
END:VCALENDAR
