BEGIN:VCALENDAR
PRODID:-//eluceo/ical//2.0/EN
VERSION:2.0
CALSCALE:GREGORIAN
BEGIN:VEVENT
UID:d16f174f5debe1ce82152ee6c83c01e7
DTSTAMP:20260421T111915Z
SUMMARY:Community Passover Seder at the JCC
DESCRIPTION:United Jewish Federation of Utah\nCalendar\nhttps://shalomutah.
 org/united-jewish-federation-of-utah-calendar/community-passover-seder-at-
 the-jcc-1553541803\n\nCommunity Passover Seder at the Jewish Community Cen
 ter.
DTSTART;TZID=America/Denver:20190419T180000
DTEND;TZID=America/Denver:20190419T210000
END:VEVENT
END:VCALENDAR
