BEGIN:VCALENDAR
PRODID:-//eluceo/ical//2.0/EN
VERSION:2.0
CALSCALE:GREGORIAN
BEGIN:VEVENT
UID:3d9ee0f3d6358dd3d118c739cd128241
DTSTAMP:20260420T080942Z
SUMMARY:Community Tashlich
DESCRIPTION:United Jewish Federation of Utah\nCalendar\nhttps://shalomutah.
 org/united-jewish-federation-of-utah-calendar/community-tashlich\n\nJoin t
 he United Jewish Federation of Utah\, the BeeCHAIs and Congregation Kol Am
 i on Rosh Hashanah afternoon for our community Tashlich gathering on Thurs
 day\, September 21st at 4:00 pm. We will meet at the pavilion at 4:00 pm a
 t Rotary Glen Park which is just east of Hogle Zoo. \n\nWe'll cast away o
 ur sins and enjoy time together. Light refreshments will be provided. Don'
 t worry! We'll supply the bread.\n\nDetails\n\nWhere:      Rotary Glen 
 Park (just east of Hogle Zoo)\nAddress:    2850...
DTSTART;TZID=America/Denver:20170921T160000
DTEND;TZID=America/Denver:20170921T173000
END:VEVENT
END:VCALENDAR
