BEGIN:VCALENDAR
PRODID:-//eluceo/ical//2.0/EN
VERSION:2.0
CALSCALE:GREGORIAN
BEGIN:VEVENT
UID:b9e9846fa20a078a8697f646371ff185
DTSTAMP:20260420T144352Z
SUMMARY:Community Tashlich 2018
DESCRIPTION:United Jewish Federation of Utah\nCalendar\nhttps://shalomutah.
 org/united-jewish-federation-of-utah-calendar/community-tashlich-2018\n\nT
 he United Jewish Federation of Utah and the BeeCHAIs invite you Rosh Hasha
 nah afternoon for our community Tashlich gathering on Monday\, September 1
 0th at 4:00 pm. We will meet at the pavilion at 4:00 pm at Rotary Glen Par
 k which is just east of Hogle Zoo. \n\nWe'll cast away our sins and enjoy
  time together. Light refreshments will be provided. Don't worry! We'll su
 pply the bread.\n\nDetails\n\nWhere: Rotary Glen Park (just east of Hogle 
 Zoo)\nAddress: 2850 E Sunnyside (840 S)\nDate: Septem...
DTSTART;TZID=America/Denver:20180910T160000
DTEND;TZID=America/Denver:20180910T180000
END:VEVENT
END:VCALENDAR
