BEGIN:VCALENDAR
PRODID:-//eluceo/ical//2.0/EN
VERSION:2.0
CALSCALE:GREGORIAN
BEGIN:VEVENT
UID:f3d9ed09ced07ab35f4d4f6f1f451f6d
DTSTAMP:20260420T163540Z
SUMMARY:Community Teen Hanukkah Party
DESCRIPTION:United Jewish Federation of Utah\nCalendar\nhttps://shalomutah.
 org/united-jewish-federation-of-utah-calendar/community-teen-hanukkah-part
 y\n\nMore Details to come
DTSTART;TZID=America/Denver:20181208T190000
DTEND;TZID=America/Denver:20181208T210000
END:VEVENT
END:VCALENDAR
