BEGIN:VCALENDAR
PRODID:-//eluceo/ical//2.0/EN
VERSION:2.0
CALSCALE:GREGORIAN
BEGIN:VEVENT
UID:51578b6c274ecec5fee06ce552bab7b2
DTSTAMP:20260422T010952Z
SUMMARY:Community Yom Ha'atzmaut Celebration
DESCRIPTION:United Jewish Federation of Utah\nCalendar\nhttps://shalomutah.
 org/united-jewish-federation-of-utah-calendar/community-yom-haatzmaut-cele
 bration-1421087806\n\nPlease Join us\, on Sunday\, April 26\, 2015\, when 
 Utah’s Jewish community will celebrate Israel’s 67th birthday. Family 
 fun\, Israeli Music\, Arts & Crafts\, bouncing castles\, Israeli food\, Be
 er Garden\, and more…\nQuestions: Drora at 801-581-0102 doren@shalomutah
 .org\n
DTSTART;TZID=America/Denver:20150426T120000
DTEND;TZID=America/Denver:20150426T150000
END:VEVENT
END:VCALENDAR
