BEGIN:VCALENDAR
PRODID:-//eluceo/ical//2.0/EN
VERSION:2.0
CALSCALE:GREGORIAN
BEGIN:VEVENT
UID:c77da959977918e53bcab0f6ad60c872
DTSTAMP:20260421T194509Z
SUMMARY:ComUNITY Weekend!
DESCRIPTION:United Jewish Federation of Utah\nCalendar\nhttps://shalomutah.
 org/united-jewish-federation-of-utah-calendar/comunity-weekend-1467134333\
 n\nCommUNITY Weekend-A Shabbat of Inspiration!\n\nFeaturing Scholar In Res
 idence: Rabbi Moshe Bryski\, Director\, Conejo Jewish Academy\, Agoura Hil
 ls\, CA\n\nFriday\, July 8th\, 2016\nKabbalat Shabbat Services at 7:00 PM 
 followed by Shabbat Dinner & Lecture\nThe Joy (and Oy) of Being a Jew\nThe
  Jew has this unique ability to cry and laugh at the very same time. The l
 ecture will glance at the past\, present and future of our people – the 
 lows and the highs\, the crying and the laughter\, the ‘oy veys...
DTSTART;TZID=America/Denver:20160708T190000
DTEND;TZID=America/Denver:20160709T130000
END:VEVENT
END:VCALENDAR
