BEGIN:VCALENDAR
PRODID:-//eluceo/ical//2.0/EN
VERSION:2.0
CALSCALE:GREGORIAN
BEGIN:VEVENT
UID:124d1671cf6b2b71e3feb512c84491cb
DTSTAMP:20260422T114253Z
SUMMARY:Confirmation at Kol Ami
DESCRIPTION:United Jewish Federation of Utah\nCalendar\nhttps://shalomutah.
 org/united-jewish-federation-of-utah-calendar/confirmation-at-kol-ami-1747
 337651\n\nJoin us for as we celebrate our 10th Grade Confirmands: Jasmine 
 Calcara\, Noa Keren\, Ruby Latham\, Galya Levenstein\, Shani Livne\, Danie
 l Melman\, and Kaya Plotkin!Following the service\, please join us for a k
 iddush in their honor sponsored by the Rafi Schwartz Religious School.
DTSTART;TZID=America/Denver:20250531T093000
DTEND;TZID=America/Denver:20250531T133000
END:VEVENT
END:VCALENDAR
