BEGIN:VCALENDAR
PRODID:-//eluceo/ical//2.0/EN
VERSION:2.0
CALSCALE:GREGORIAN
BEGIN:VEVENT
UID:bc8fb690706bad08914e1a4ce7562898
DTSTAMP:20260421T101636Z
SUMMARY:Congregation Kol Ami Annual Gala
DESCRIPTION:United Jewish Federation of Utah\nCalendar\nhttps://shalomutah.
 org/united-jewish-federation-of-utah-calendar/congregation-kol-ami-annual-
 gala-1568313406\n\nPlease save the date for Congregation Kol Ami’s Annua
 l Gala Honoring the Cohne and Khadjenoury families.\n\nJoin us Sunday\, Fe
 bruary 23rd for a lovely evening. Festivities begin with Cocktail Hour at 
 5:30PM. Evening concludes at 9:00PM.\n\nWe’re looking forward to a fabul
 ous night!
DTSTART;TZID=America/Denver:20200223T173000
DTEND;TZID=America/Denver:20200223T210000
END:VEVENT
END:VCALENDAR
