BEGIN:VCALENDAR
PRODID:-//eluceo/ical//2.0/EN
VERSION:2.0
CALSCALE:GREGORIAN
BEGIN:VEVENT
UID:1ec665453ca33939062d0888a3a4623f
DTSTAMP:20260420T130037Z
SUMMARY:Congregation Kol Ami Purim Carnival
DESCRIPTION:United Jewish Federation of Utah\nCalendar\nhttps://shalomutah.
 org/united-jewish-federation-of-utah-calendar/congregation-kol-ami-purim-c
 arnival-1550265526\n\nJoin us for an awesome morning filled with “Miriam
 ” Poppins-themed fun! On the agenda: chalk “painting\,” build-your-o
 wn kites\, Hamentashen Bake-Off\, and more.\n\nWant to help? Please email 
 Program Coordinator\, Sarah Kayne at sarahkayne@conkolami.org.\n\nThere is
  no cost to attend. Food and game-play tickets are $1 per ticket in advanc
 e (bulk packages are available for savings). No refunds available. Prices 
 go up at the door.\n\nRegister and buy food and game-play tickets at www.c
 onkol...
DTSTART;TZID=America/Denver:20190324T100000
DTEND;TZID=America/Denver:20190324T120000
END:VEVENT
END:VCALENDAR
