BEGIN:VCALENDAR
PRODID:-//eluceo/ical//2.0/EN
VERSION:2.0
CALSCALE:GREGORIAN
BEGIN:VEVENT
UID:a091f26ece60f5e6f685aea6db669a97
DTSTAMP:20260421T195443Z
SUMMARY:Congregation Kol Ami Tree Planting 
DESCRIPTION:United Jewish Federation of Utah\nCalendar\nhttps://shalomutah.
 org/united-jewish-federation-of-utah-calendar/congregation-kol-ami-tree-pl
 anting-1428641005\n\nCome to Kol Ami&#039\;s Esther&#039\;s Garden and bui
 ld three additional raised beds and plant 12 Cherry trees. 
DTSTART;TZID=America/Denver:20150426T090000
DTEND;TZID=America/Denver:20150426T120000
END:VEVENT
END:VCALENDAR
