BEGIN:VCALENDAR
PRODID:-//eluceo/ical//2.0/EN
VERSION:2.0
CALSCALE:GREGORIAN
BEGIN:VEVENT
UID:7c318408f57fb92e6e85386609209314
DTSTAMP:20260421T212223Z
SUMMARY:A Conversation with the Anti-Defamation League
DESCRIPTION:United Jewish Federation of Utah\nCalendar\nhttps://shalomutah.
 org/united-jewish-federation-of-utah-calendar/conversation-with-adl\n\nJoi
 n us to hear from Interim Pacific Central Regional Director Teresa Drenick
  and Education Director Shereen Bhalla about the ADL's work in combating t
 oday's extremism. This will be an interactive presentation and an opportun
 ity for audience members to ask questions.\n\nLocation: I.J. and Jeanne Wa
 gner Jewish Community Center\; registration required.\n\nRegister here: ht
 tps://shalomutah.regfox.com/a-conversation-with-the-adl
DTSTART;TZID=America/Denver:20231015T150000
DTEND;TZID=America/Denver:20231015T170000
END:VEVENT
END:VCALENDAR
