BEGIN:VCALENDAR
PRODID:-//eluceo/ical//2.0/EN
VERSION:2.0
CALSCALE:GREGORIAN
BEGIN:VEVENT
UID:ba58a5fdc0d958fe653c751de044a5e6
DTSTAMP:20260422T224434Z
SUMMARY:Corky Siegal In Concert
DESCRIPTION:United Jewish Federation of Utah\nCalendar\nhttps://shalomutah.
 org/united-jewish-federation-of-utah-calendar/corky-siegal-in-concert-1588
 889903\n\nCorky Siegel is known internationally as one of the worlds great
  blues harmonica players\, blues pianist\, singer and writer of unusual so
 ngs\, a Chamber Blues progenitor and sole pioneer/composer of award-winnin
 g revolutionary works that weave blues and classical forms together. He ce
 lebrates 55 years of performance\, a co-founder of the great\n﻿\n﻿Sieg
 el-Schwall Band\, a Chicago Blues Hall of Fame inductee and Lifetime Achie
 vement awardee. Corky Siegel has a catalog of recordings on RCA\, Van...
DTSTART;TZID=America/Denver:20200517T190000
DTEND;TZID=America/Denver:20200517T203000
END:VEVENT
END:VCALENDAR
