BEGIN:VCALENDAR
PRODID:-//eluceo/ical//2.0/EN
VERSION:2.0
CALSCALE:GREGORIAN
BEGIN:VEVENT
UID:fb3cff317b50770acc2e5daf213c51c8
DTSTAMP:20260420T132728Z
SUMMARY:Cosmic Havdallah
DESCRIPTION:United Jewish Federation of Utah\nCalendar\nhttps://shalomutah.
 org/united-jewish-federation-of-utah-calendar/cosmic-havdallah-1539366652\
 n\nMeet at the Clark Planetarium for Havdalah and then for a laser light s
 how featuring the music of Led Zeppelin.
DTSTART;TZID=America/Denver:20181103T200000
DTEND;TZID=America/Denver:20181103T220000
END:VEVENT
END:VCALENDAR
