BEGIN:VCALENDAR
PRODID:-//eluceo/ical//2.0/EN
VERSION:2.0
CALSCALE:GREGORIAN
BEGIN:VEVENT
UID:ecd54e9ed8f3cbca0d14ad8ebf9b4f79
DTSTAMP:20260421T091647Z
SUMMARY:Countering Active Threat Training (CATT)
DESCRIPTION:United Jewish Federation of Utah\nCalendar\nhttps://shalomutah.
 org/united-jewish-federation-of-utah-calendar/countering-active-threat-tra
 ining-catt-feb023-454097\n\nThe goal of CATT is to provide participants wi
 th a better understanding of active threats and potential response options
 . This course subscribes to the national Run\, Hide\, Fight model and SCN 
 developed CATT with a singular goal: national delivery of a strategy to te
 ach what to do during a threatening situation\, wherever it may occur. The
  training will last approximately one hour with time available for questio
 ns. Please contact Regional Security Advisor David McKean dmckean@secureco
 mmunitynet...
DTSTART;TZID=America/Denver:20240206T190000
DTEND;TZID=America/Denver:20240206T210000
END:VEVENT
END:VCALENDAR
