BEGIN:VCALENDAR
PRODID:-//eluceo/ical//2.0/EN
VERSION:2.0
CALSCALE:GREGORIAN
BEGIN:VEVENT
UID:8fecca2a600f244b7fa12b6a3b2f02af
DTSTAMP:20260420T062352Z
SUMMARY:Creation Revisited
DESCRIPTION:United Jewish Federation of Utah\nCalendar\nhttps://shalomutah.
 org/united-jewish-federation-of-utah-calendar/creation-revisited-148416467
 2\n\nWe are all creators\, made in the image of G-d—the ultimate Cre-ato
 r. But is the difference between our ability to create and G-d’s merely 
 a quantitative one?\nThis lesson searches the foundational principles of J
 ewish thought regarding G-d’s creation of the world and unearths age-les
 s methods of reframing our approach to life.
DTSTART;TZID=America/Denver:20170129T193000
DTEND;TZID=America/Denver:20170129T210000
END:VEVENT
END:VCALENDAR
