BEGIN:VCALENDAR
PRODID:-//eluceo/ical//2.0/EN
VERSION:2.0
CALSCALE:GREGORIAN
BEGIN:VEVENT
UID:967529013605a2a5ee3f3468c60893f2
DTSTAMP:20260421T165732Z
SUMMARY:December Artist: Daniel Stolpe
DESCRIPTION:United Jewish Federation of Utah\nCalendar\nhttps://shalomutah.
 org/united-jewish-federation-of-utah-calendar/december-artist-daniel-stolp
 e-1415328263\n\nDaniel Owen Stolpe was born in Los Angeles\, California in
  1939. He obtained an Associates of Arts degree at Pasadena City College i
 n 1960. He attended Los Angeles Country Art Institute (OTIS) on a scholars
 hip\, from 1961-1962. Later Stolpe apprenticed under artist Don La Viere T
 urner\, in Glendora\; and from 1965 to 1966\, with Master Printer Joseph F
 unk\, in Venice\, both studios located in California. Stolpe works in the 
 tradition of European figurative style\, heavily influences by German Expr
 essi...
DTSTART;TZID=America/Denver:20141204T160000
DTEND;TZID=America/Denver:20141204T190000
END:VEVENT
END:VCALENDAR
