BEGIN:VCALENDAR
PRODID:-//eluceo/ical//2.0/EN
VERSION:2.0
CALSCALE:GREGORIAN
BEGIN:VEVENT
UID:5ced945d49ceddd390e446605a971f80
DTSTAMP:20260424T044356Z
SUMMARY:Deep Fried Hanukkah
DESCRIPTION:United Jewish Federation of Utah\nCalendar\nhttps://shalomutah.
 org/united-jewish-federation-of-utah-calendar/deep-fried-hanukkah-15417119
 03\n\nCongregation Kol Ami and the Rafi Schwartz Religious School invite y
 ou to partake in a Deep Fried Hanukkah Party!\n\nJoin us for a dairy meal 
 with lots of latkes\, menorah candle lighting\, crafts\, fun for all ages\
 , and of course\, deep fried desserts!\n\nKeep an eye out for more informa
 tion and how to register.
DTSTART;TZID=America/Denver:20181207T180000
DTEND;TZID=America/Denver:20181207T203000
END:VEVENT
END:VCALENDAR
