BEGIN:VCALENDAR
PRODID:-//eluceo/ical//2.0/EN
VERSION:2.0
CALSCALE:GREGORIAN
BEGIN:VEVENT
UID:1e5649dbab6abaebc0e60280fa22a703
DTSTAMP:20260422T114944Z
SUMMARY:"Defying the Nazis: The Sharps' War"
DESCRIPTION:United Jewish Federation of Utah\nCalendar\nhttps://shalomutah.
 org/united-jewish-federation-of-utah-calendar/defying-the-nazis-the-sharps
 -war-1471285375\n\nA new documentary co-directed by Ken Burns and Artemis 
 Joukowsky about a little-known but important mission by an American minist
 er and his wife to rescue refugees and dissidents in Europe before and aft
 er the start of World War II.
DTSTART;TZID=America/Denver:20160920T190000
DTEND;TZID=America/Denver:20160920T213000
END:VEVENT
END:VCALENDAR
