BEGIN:VCALENDAR
PRODID:-//eluceo/ical//2.0/EN
VERSION:2.0
CALSCALE:GREGORIAN
BEGIN:VEVENT
UID:a693bed1a440187be1b0fbf14990415d
DTSTAMP:20260422T034741Z
SUMMARY:Dinner\, Conversation & LDS 101
DESCRIPTION:United Jewish Federation of Utah\nCalendar\nhttps://shalomutah.
 org/united-jewish-federation-of-utah-calendar/dinner-conversation-lds-101\
 n\nJoin the BeeChais for a multi-faith community dinner in Salt Lake City 
 in partnership with the One America Movement\, Temple Har Shalom\, and oth
 er local religious movements!\n\nRSVP at https://www.eventbrite.com/e/one-
 america-movement-dinner-conversation-lds-101-tickets-65272481750\n\nThe On
 e America Movement brings Americans together to bridge divides and solve p
 roblems. We’re building a trans-partisan movement of Americans who are t
 ired of being divided against each other and who believe t...
DTSTART;TZID=America/Denver:20190804T173000
DTEND;TZID=America/Denver:20190804T193000
END:VEVENT
END:VCALENDAR
