BEGIN:VCALENDAR
PRODID:-//eluceo/ical//2.0/EN
VERSION:2.0
CALSCALE:GREGORIAN
BEGIN:VEVENT
UID:f272813e22dc108fae87cf60040779d9
DTSTAMP:20260422T200634Z
SUMMARY:Dir. Center for Holocaust & Genocide Education to Speak
DESCRIPTION:United Jewish Federation of Utah\nCalendar\nhttps://shalomutah.
 org/united-jewish-federation-of-utah-calendar/dir-center-for-holocaust--ge
 nocide-education-to-speak-1559608408\n\nThe Utah Rwandan Survivor Communit
 y (URSC) is hosting a special remembrance of the Rwandan Tutsi Genocide th
 at occurred 25 years ago this month.  The goal is to bring the community t
 ogether to inform\, educate\, remember\, and reflect upon the 1994 Genocid
 e against the Tutsi in Rwanda. The theme of this remembrance is Kwibuka 25
  “Remember\, Unite\, and Renew”.  Kwibuka means ‘to remember’.  \n
 Genocide victims are murdered solely because of their nationality\, race\,
  or other discriminatory...
DTSTART;TZID=America/Denver:20190608T150000
DTEND;TZID=America/Denver:20190608T170000
END:VEVENT
END:VCALENDAR
