BEGIN:VCALENDAR
PRODID:-//eluceo/ical//2.0/EN
VERSION:2.0
CALSCALE:GREGORIAN
BEGIN:VEVENT
UID:18c1bb9e9ae05eef0b5008012b9174be
DTSTAMP:20260420T103408Z
SUMMARY:Disaster Preparedness Seminar
DESCRIPTION:United Jewish Federation of Utah\nCalendar\nhttps://shalomutah.
 org/united-jewish-federation-of-utah-calendar/disaster-preparedness-semina
 r-1461096885\n\nFree lunch and seminar (must RSVP by April 28 to hindy@jfs
 utah\, 801.746.4334 or ccantor@slcjcc.org\, 801.581.0098). Come learn 5 th
 ings you should do to save yourself and your family in the event of a majo
 r disaster in the greater Salt Lake Area. Presented by Stan Rosenzweig.
DTSTART;TZID=America/Denver:20160503T120000
DTEND;TZID=America/Denver:20160503T130000
END:VEVENT
END:VCALENDAR
