BEGIN:VCALENDAR
PRODID:-//eluceo/ical//2.0/EN
VERSION:2.0
CALSCALE:GREGORIAN
BEGIN:VEVENT
UID:74f1838462cb726d6bd3454d30a6c362
DTSTAMP:20260420T183341Z
SUMMARY:Documentary Screening: The Last Laugh
DESCRIPTION:United Jewish Federation of Utah\nCalendar\nhttps://shalomutah.
 org/united-jewish-federation-of-utah-calendar/documentary-screening-the-la
 st-laugh-1495637459\n\nMel Brooks\, Sarah Silverman\, former ADL Director 
 Abe Foxman - along with many other comedians\, performers\, and survivors 
 - tackle the difficult topic of creating comedy connected to the Holocaust
  in this thoughtful but provocative film.  Discussion afterward led by Mic
 hael Greenfield.
DTSTART;TZID=America/Denver:20170803T190000
DTEND;TZID=America/Denver:20170803T210000
END:VEVENT
END:VCALENDAR
