BEGIN:VCALENDAR
PRODID:-//eluceo/ical//2.0/EN
VERSION:2.0
CALSCALE:GREGORIAN
BEGIN:VEVENT
UID:b53effaef6f032b2fbb0e1296c4bbfee
DTSTAMP:20260420T174014Z
SUMMARY:Drive In Concert-Movie
DESCRIPTION:United Jewish Federation of Utah\nCalendar\nhttps://shalomutah.
 org/united-jewish-federation-of-utah-calendar/drive-in-concert-movie-16070
 19224\n\nEnjoy the most amazing Chanukah concert/movie from the comfort of
  your car with the one and only 8th Day Band.\n\nThe sound will be broadca
 st through your car radio.\n\nEnjoy delicious Sufganiot\, Latkes and more!
 \n\nPlease register on www.JewishParkCity.com or call (435) 714-8590
DTSTART;TZID=America/Denver:20201213T180000
DTEND;TZID=America/Denver:20201213T190000
END:VEVENT
END:VCALENDAR
