BEGIN:VCALENDAR
PRODID:-//eluceo/ical//2.0/EN
VERSION:2.0
CALSCALE:GREGORIAN
BEGIN:VEVENT
UID:56211786890792a765b123e69a9abb85
DTSTAMP:20260421T084633Z
SUMMARY:Erev Purim Services
DESCRIPTION:United Jewish Federation of Utah\nCalendar\nhttps://shalomutah.
 org/united-jewish-federation-of-utah-calendar/erev-purim-services-14568620
 98\n\nJoin us for a student Purimspiel and costume parade.  Stay for a bri
 ef service followed by an interactive Megillah reading & light refreshment
 s. Fun will be had by all!!
DTSTART;TZID=America/Denver:20160323T183000
DTEND;TZID=America/Denver:20160323T213000
END:VEVENT
END:VCALENDAR
