BEGIN:VCALENDAR
PRODID:-//eluceo/ical//2.0/EN
VERSION:2.0
CALSCALE:GREGORIAN
BEGIN:VEVENT
UID:c364df1bcb097a997ba9b8733eed30f3
DTSTAMP:20260419T232358Z
SUMMARY:Erev Tisha B'Av Services & Chanting of the Book of Lamentations
DESCRIPTION:United Jewish Federation of Utah\nCalendar\nhttps://shalomutah.
 org/united-jewish-federation-of-utah-calendar/erev-tisha-bav-services--cha
 nting-of-the-book-of-lamentations-1466456347\n\nPlease join us for the uni
 que observance of Tisha B'Av\, a day of public mourning and preparation fo
 r the High Holidays to come. We will hold evening services which will conc
 lude with the chanting of the Book of Eikha (Lamentations). This text\, ch
 anted in a unique melody\, is traditionally recited by candlelight while s
 itting on the floor. Services continue on Sunday morning at 8:15 a.m.
DTSTART;TZID=America/Denver:20160813T213000
DTEND;TZID=America/Denver:20160813T230000
END:VEVENT
END:VCALENDAR
