BEGIN:VCALENDAR
PRODID:-//eluceo/ical//2.0/EN
VERSION:2.0
CALSCALE:GREGORIAN
BEGIN:VEVENT
UID:9e20a0df0378a849ad915ab8d46e5433
DTSTAMP:20260421T081320Z
SUMMARY:Family Hanukkah Party
DESCRIPTION:United Jewish Federation of Utah\nCalendar\nhttps://shalomutah.
 org/united-jewish-federation-of-utah-calendar/family-hanukkah-party-141828
 1716\n\nAnnual Family Hanukkah Party Hosted by the Rafi Schwartz Religious
  School & Congregation Kol AmiA Celebration for all ages\, open to the who
 le community!  Bring your grandchildren\, grandparents\, family & friends!
 Program includes Homemade Latke Dinner\,  Menorah Lighting w/Rabbi Ilana\,
   Hanukkah Sing-Along\,  Live Klezmer music by the Klezbros\,  Israeli Dan
 cing\, Dreidel Disco\,  Games & Prizes! Dinner menu: Latkes fresh from the
  oven made by "Bill the Latke Man" with Lentil Soup\, Pasta & Salad Des...
DTSTART;TZID=America/Denver:20141217T180000
DTEND;TZID=America/Denver:20141217T200000
END:VEVENT
END:VCALENDAR
