BEGIN:VCALENDAR
PRODID:-//eluceo/ical//2.0/EN
VERSION:2.0
CALSCALE:GREGORIAN
BEGIN:VEVENT
UID:ad0300578720ea6a43d31369ef835624
DTSTAMP:20260421T045825Z
SUMMARY:Family Shabbat
DESCRIPTION:United Jewish Federation of Utah\nCalendar\nhttps://shalomutah.
 org/united-jewish-federation-of-utah-calendar/family-shabbat-1533765439\n\
 nJoin us for a Family Shabbat geared towards younger children under the ag
 es of 8.
DTSTART;TZID=America/Denver:20180810T183000
DTEND;TZID=America/Denver:20180810T193000
END:VEVENT
END:VCALENDAR
