BEGIN:VCALENDAR
PRODID:-//eluceo/ical//2.0/EN
VERSION:2.0
CALSCALE:GREGORIAN
BEGIN:VEVENT
UID:d4fe8b0f45a97ed216d3c1c0780ab627
DTSTAMP:20260419T231346Z
SUMMARY:Family Shabbat at Temple Har Shalom
DESCRIPTION:United Jewish Federation of Utah\nCalendar\nhttps://shalomutah.
 org/united-jewish-federation-of-utah-calendar/family-shabbat-at-temple-har
 -shalom-1705012975\n\nJoin Temple Har Shalom for our monthly family servic
 e! Open to families with children up to 3rd grade.\n\nContact admin@harsha
 lomparkcity.org for more information.
DTSTART;TZID=America/Denver:20240119T000000
DTEND;TZID=America/Denver:20240119T235959
END:VEVENT
END:VCALENDAR
