BEGIN:VCALENDAR
PRODID:-//eluceo/ical//2.0/EN
VERSION:2.0
CALSCALE:GREGORIAN
BEGIN:VEVENT
UID:4ac234a44bec4f959e7ccaa03604a65c
DTSTAMP:20260420T103604Z
SUMMARY:Farm-to-Table Shabbat Dinner in the Garden
DESCRIPTION:United Jewish Federation of Utah\nCalendar\nhttps://shalomutah.
 org/united-jewish-federation-of-utah-calendar/farm-to-table-shabbat-dinner
 -in-the-garden-1554921837\n\nEnjoy the best local locally grown produce an
 d Congregation Kol Ami’s stunning mountain views with a farm-to-table Sh
 abbat Dinner set in our organic vegetable garden. Our evening features rus
 tic fare\, seasonally appropriate dining\, optional wine pairings and more
 .
DTSTART;TZID=America/Denver:20190524T193000
DTEND;TZID=America/Denver:20190524T235900
END:VEVENT
END:VCALENDAR
