BEGIN:VCALENDAR
PRODID:-//eluceo/ical//2.0/EN
VERSION:2.0
CALSCALE:GREGORIAN
BEGIN:VEVENT
UID:a6ad4700e2fbab78ae385a71d318d4e9
DTSTAMP:20260420T173636Z
SUMMARY:Feature Artist: Vivian Bergenthal
DESCRIPTION:United Jewish Federation of Utah\nCalendar\nhttps://shalomutah.
 org/united-jewish-federation-of-utah-calendar/feature-artist-vivian-bergen
 thal-1462985642\n\nThis month we will be exhibiting the beautiful painting
 s by Vivian Bergenthal. The exhibit runs from June 1 - 30. An artist recep
 tion will be held on June 2 from 5:00 - 7:00 p.m.
DTSTART;TZID=America/Denver:20160601T100000
DTEND;TZID=America/Denver:20160630T200000
END:VEVENT
END:VCALENDAR
