BEGIN:VCALENDAR
PRODID:-//eluceo/ical//2.0/EN
VERSION:2.0
CALSCALE:GREGORIAN
BEGIN:VEVENT
UID:224f54be09131b6ff76bb8e989e6a00a
DTSTAMP:20260421T061628Z
SUMMARY:Federation - BeeCHAI - Annual Erev Christmas Chinese Dinner
DESCRIPTION:United Jewish Federation of Utah\nCalendar\nhttps://shalomutah.
 org/united-jewish-federation-of-utah-calendar/federation---beechai---annua
 l-erev-christmas-chinese-dinner-1449783238\n\nWhat do Jews Do on Christmas
  Eve? Eat Chinese food\, of course!\nThis event is open to young adults 20
 th-40th and their families (BeeCHAIs). The BeeCHAIs are dedicated to bring
 ing together young Jewish individuals and families in Utah to enhance a se
 nse of community and Jewish identity.\nLocation: Asian Star Restaurant\, 7
 588 Union Park Ave\, Midvale\, UT 84047\nCost: $20 per adult\, $10 per chi
 ld\nRSVP: by December 20th. Online pre-payment is required to secure your 
 rsvp - space is limited....
DTSTART;TZID=America/Denver:20151224T180000
DTEND;TZID=America/Denver:20151224T210000
END:VEVENT
END:VCALENDAR
