BEGIN:VCALENDAR
PRODID:-//eluceo/ical//2.0/EN
VERSION:2.0
CALSCALE:GREGORIAN
BEGIN:VEVENT
UID:f5e312f8c68d3c246c9ef64c273bad57
DTSTAMP:20260419T202011Z
SUMMARY:Federation 9th Annual Summer Party
DESCRIPTION:United Jewish Federation of Utah\nCalendar\nhttps://shalomutah.
 org/united-jewish-federation-of-utah-calendar/federation-9th-annual-summer
 -party\n\nHighlighting Federation’s Summer Sleep-Away Camp Scholarship 
 Fund
DTSTART;TZID=America/Denver:20190814T060000
DTEND;TZID=America/Denver:20190814T210000
END:VEVENT
END:VCALENDAR
