BEGIN:VCALENDAR
PRODID:-//eluceo/ical//2.0/EN
VERSION:2.0
CALSCALE:GREGORIAN
BEGIN:VEVENT
UID:99f5c564617dde62bea521825aca5deb
DTSTAMP:20260422T192939Z
SUMMARY:Federation BeeCHAI Menorah Making Shabbat Dinner
DESCRIPTION:United Jewish Federation of Utah\nCalendar\nhttps://shalomutah.
 org/united-jewish-federation-of-utah-calendar/federation-beechai-menorah-m
 aking-shabbat-dinner-1448493510\n\nPlease join us for a special\, Friday n
 ight Shabbat dinner and Hanukkah menorah making fun.\nWe will have arts an
 d craft supplies for each kid to make his/her own Hanukkia (Menorah). We&#
 039\;ll read Hanukkah story books and have a nice (catered) dinner (we pro
 mise no fried foods\, you&#039\;ll have 8 days of it starting Sunday).\nPl
 ease forward to your friends and let us know if you can join us by DECEMBE
 R 1st.\nThere will be a small charge per person to cover food and craft co
 sts (around $5 per child\,...
DTSTART;TZID=America/Denver:20151204T173000
DTEND;TZID=America/Denver:20151204T193000
END:VEVENT
END:VCALENDAR
